BEGIN:VCALENDAR
VERSION:2.0
PRODID:-//wp-events-plugin.com//7.2.3.1//EN
TZID:America/Toronto
X-WR-TIMEZONE:America/Toronto
BEGIN:VEVENT
UID:145@fca-fac.ca
DTSTART;TZID=America/Toronto:20260318T190000
DTEND;TZID=America/Toronto:20260318T210000
DTSTAMP:20260317T162521Z
URL:https://fca-fac.ca/events/fca-fac-general-meeting-20/
SUMMARY:FCA-FAC General Meeting - March 18\, 2026
DESCRIPTION:260318DA  The featured topic for discussion at the March 18 Ge
 neral Meeting is the FCA’s relationships with other not-for-profit organ
 izations
END:VEVENT
BEGIN:VTIMEZONE
TZID:America/Toronto
X-LIC-LOCATION:America/Toronto
BEGIN:DAYLIGHT
DTSTART:20260308T030000
TZOFFSETFROM:-0500
TZOFFSETTO:-0400
TZNAME:EDT
END:DAYLIGHT
END:VTIMEZONE
END:VCALENDAR