BEGIN:VCALENDAR
VERSION:2.0
PRODID:-//wp-events-plugin.com//7.2.3.1//EN
TZID:America/Toronto
X-WR-TIMEZONE:America/Toronto
BEGIN:VEVENT
UID:45@fca-fac.ca
DTSTART;TZID=America/Toronto:20170419T191500
DTEND;TZID=America/Toronto:20170419T191500
DTSTAMP:20201106T074350Z
URL:https://fca-fac.ca/events/fca-fac-general-meeting-wed-april-19/
SUMMARY:FCA-FAC General Meeting
DESCRIPTION:The next General Meeting of the FCA [Federation of Citizens' As
 sociations of Ottawa] will be held Wednesday April 19 from 7:15pm at 8B Sw
 eetnam Drive\, Stittsville. Member organizations are invited to send two d
 elegates to General Meetings. Observers are always welcome.\nA draft agend
 a for the April 19 meeting is available at https://fca-fac.ca/wp-content/u
 ploads/2017/04/170419DA.pdf\n\nFCA Member Phil Sweetnam will be hosting a 
 tour of the WM facility at 4pm. Please RSVP with Mr. Sweetnam who will be 
 accepting the first 15 participants to view the plant. Details here: https
 ://fca-fac.ca/wm-tour-details/\n\nDirections to WM facility: https://fca-f
 ac.ca/trans-canada-hwy-kanata-on-k2t-to-2301-carp-rd-carp-on-k0a-1l0-googl
 e-maps/\n\nA light dinner will be served following the tour at 117 Covered
  Bridge.  Directions to dinner here: https://fca-fac.ca/2301-carp-road-ca
 rp-on-to-117-covered-bridge-way-carp-on/\n\nDirections to FCA General Meet
 ing can be found here: https://fca-fac.ca/trans-canada-hwy-kanata-on-k2l-t
 o-8b-sweetnam-dr-stittsville-on-k2s-1g2-google-maps/\n\nPictures of the WM
  facility:\n\nGas Extraction Wells at the Landfill site: https://fca-fac.c
 a/wm-gas-extraction-wells-at-the-landfill-site-7803/\n\nWM Gas extraction 
 wells close up at the landfill site: https://fca-fac.ca/wm-gas-extraction
 -wells-close-up-at-the-landfill-site-7794/\n\nWM Twenty cylinder Sparking 
 DIESEL GENERATOR:https://fca-fac.ca/wm-twenty-cylinder-sparking-diesel-gen
 erator-2403/\n\n&nbsp\;\n\n&nbsp\;
END:VEVENT
BEGIN:VTIMEZONE
TZID:America/Toronto
X-LIC-LOCATION:America/Toronto
BEGIN:DAYLIGHT
DTSTART:20170312T030000
TZOFFSETFROM:-0500
TZOFFSETTO:-0400
TZNAME:EDT
END:DAYLIGHT
END:VTIMEZONE
END:VCALENDAR