BEGIN:VCALENDAR
VERSION:2.0
PRODID:-//wp-events-plugin.com//7.2.3.1//EN
TZID:America/Toronto
X-WR-TIMEZONE:America/Toronto
BEGIN:VEVENT
UID:46@fca-fac.ca
DTSTART;TZID=America/Toronto:20170517T191500
DTEND;TZID=America/Toronto:20170517T191500
DTSTAMP:20201106T074455Z
URL:https://fca-fac.ca/events/fca-fac-general-meeting-wed-may-17/
SUMMARY:FCA-FAC General Meeting
DESCRIPTION:The next General Meeting of FCA [Federation of Citizens' Associ
 ations of Ottawa] will be held Wednesday May 17 from 7:15 pm at Kanata Bap
 tist Church\, 465 Hazeldean Road. Each member association is invited to se
 nt two delegates to General Meetings. Observers are always welcome.\n\nThe
  featured guest speaker for the May 17 will be Stephen Willis\, the new Ge
 neral Manager of the City's Planning\, Infrastructure and Economic Develop
 ment Department.\n\nA draft agenda for the meeting is found at fca-fac.ca/
 170517da.pdf &lt\;click here&gt\; and draft minutes for the previous (Apri
 l 19) meeting are at fca-fac.ca/170419dm-2.pdf &lt\;click here&gt\;.  Dra
 ft minutes for the Executive meeting of April 26 are at fca-fac.ca/170426E
 X.pdf &lt\;click here&gt\;.
END:VEVENT
BEGIN:VTIMEZONE
TZID:America/Toronto
X-LIC-LOCATION:America/Toronto
BEGIN:DAYLIGHT
DTSTART:20170312T030000
TZOFFSETFROM:-0500
TZOFFSETTO:-0400
TZNAME:EDT
END:DAYLIGHT
END:VTIMEZONE
END:VCALENDAR