BEGIN:VCALENDAR
VERSION:2.0
PRODID:-//wp-events-plugin.com//7.2.3.1//EN
TZID:America/Toronto
X-WR-TIMEZONE:America/Toronto
BEGIN:VEVENT
UID:111@fca-fac.ca
DTSTART;TZID=America/Toronto:20231218T190000
DTEND;TZID=America/Toronto:20231218T203000
DTSTAMP:20231210T014414Z
URL:https://fca-fac.ca/events/fca-fac-transportation-committee/
SUMMARY:FCA-FAC Transportation Committee
DESCRIPTION:
END:VEVENT
BEGIN:VTIMEZONE
TZID:America/Toronto
X-LIC-LOCATION:America/Toronto
BEGIN:STANDARD
DTSTART:20231105T010000
TZOFFSETFROM:-0400
TZOFFSETTO:-0500
TZNAME:EST
END:STANDARD
END:VTIMEZONE
END:VCALENDAR