BEGIN:VCALENDAR
VERSION:2.0
PRODID:-//wp-events-plugin.com//7.2.3.1//EN
TZID:America/Toronto
X-WR-TIMEZONE:America/Toronto
BEGIN:VEVENT
UID:19@fca-fac.ca
DTSTART;TZID=America/Toronto:20191123T090000
DTEND;TZID=America/Toronto:20191123T120000
DTSTAMP:20201106T064310Z
URL:https://fca-fac.ca/events/workshop-neighbourhoods-count-nov-23/
SUMMARY:Workshop "Neighbourhoods count"
DESCRIPTION:\nFCA-FAC with Ottawa Neighbourhood Study present "Neighbourhoo
 ds Count" a workshop to better understand the physical and social pathways
  by which communities in Ottawa affect our health and well-being. Learn to
  react\, analyze and argue with data. Discover facts that will support evi
 dence-based decision-making.\n\n\n\nThe workshop will be held at Overbrook
  Community Centre\, the morning of Saturday November 23. A poster inviting
  participants is at https://fca-fac.ca/wp-content/uploads/2019/11/191123pr
 .pdf Registration is by email to communitydataevent@fca-fac.ca\n
END:VEVENT
BEGIN:VTIMEZONE
TZID:America/Toronto
X-LIC-LOCATION:America/Toronto
BEGIN:STANDARD
DTSTART:20191103T010000
TZOFFSETFROM:-0400
TZOFFSETTO:-0500
TZNAME:EST
END:STANDARD
END:VTIMEZONE
END:VCALENDAR