BEGIN:VCALENDAR
VERSION:2.0
PRODID:-//wp-events-plugin.com//7.2.3.1//EN
TZID:America/Toronto
X-WR-TIMEZONE:America/Toronto
BEGIN:VEVENT
UID:73@fca-fac.ca
DTSTART;TZID=America/Toronto:20220330T190000
DTEND;TZID=America/Toronto:20220330T203000
DTSTAMP:20220322T224755Z
URL:https://fca-fac.ca/events/workshop-on-organizing-all-candidates-meetin
 gs/
SUMMARY:Workshop\; How to Organize an All Candidates Meeting
DESCRIPTION:220330wkshp
END:VEVENT
BEGIN:VTIMEZONE
TZID:America/Toronto
X-LIC-LOCATION:America/Toronto
BEGIN:DAYLIGHT
DTSTART:20220313T030000
TZOFFSETFROM:-0500
TZOFFSETTO:-0400
TZNAME:EDT
END:DAYLIGHT
END:VTIMEZONE
END:VCALENDAR